BEGIN:VCALENDAR
VERSION:2.0
PRODID:-//DIGITAL FACTORY//EVENTS MAKER V1.6.14//EN
CALSCALE:GREGORIAN
BEGIN:VEVENT
DTEND:20210214T013000Z
UID:69e9dba566aab
DTSTAMP:20260423T084317Z
DESCRIPTION:Join us for our February meeting    When: Feb 13\, 2021 4:00-5:30    Register To Attend    The internet is crowding out the darkness of the last 4 years with Kittens and Mittens. Have a giggle\, grab a cup of hot cocoa\, then join us online as we:     	Celebrate Black History Month   	Hear from Opportunity Leadership Network about a televised benefit concert to spotlighting Black-Led organizations and Black artists.   	Learn about a new Indivisible Eastside project to engage in anti-racism work.   	Catch up on the first 5 weeks of of the State Legislative Session and Indivisible's work.   	All Welcome - new and seasoned. We hope to see you!    All are welcome. Register to attend. We hope to see you on Zoom!    Allison\, Joan\, Linda\, Hanna\, Jennifer\, Louise\, Rhiannon &amp\; Kat  IE Steering Committee
URL;VALUE=URI:https://indivisibleeastside.com/events/event/ie-group-meeting-feb-2021/
SUMMARY:IE Group Meeting Feb 2021
DTSTART:20210214T000000Z
END:VEVENT
END:VCALENDAR
