BEGIN:VCALENDAR
VERSION:2.0
PRODID:-//DIGITAL FACTORY//EVENTS MAKER V1.6.14//EN
CALSCALE:GREGORIAN
BEGIN:VEVENT
DTEND:20181006T230000Z
UID:69e6d5e3b14c6
DTSTAMP:20260421T014155Z
DESCRIPTION:Join us for our monthly Group Meeting    This month's meeting it is at the Bothell Library (CHANGE OF VENUE).      	hear from a couple of candidates   	brush up on Initiative information   	learn about the 2019 ACA Signup Project   	opportunity to do textbanking. If you can\, read Textbanking 101 Primer and bring a smartphone or laptop.    	opportunity to do postcarding. Please bring $5-$10 cash for reimbursement of cards and postage.    Bothell Library: 18215 98th Ave NE Bothell WA 
URL;VALUE=URI:https://indivisibleeastside.com/events/event/ie-group-meeting-oct-2018/
SUMMARY:IE Group Meeting Oct 2018
DTSTART:20181006T203000Z
END:VEVENT
END:VCALENDAR
