BEGIN:VCALENDAR
VERSION:2.0
PRODID:-//DIGITAL FACTORY//EVENTS MAKER V1.6.14//EN
CALSCALE:GREGORIAN
BEGIN:VEVENT
DTEND:20211018T003000Z
UID:69e9dba565fc1
DTSTAMP:20260423T084317Z
DESCRIPTION:Join us for our October meeting    When: Oct 17 4:00-5:30    Register To Attend  Please join us as we lead a community roundtable discussion about School Board issues across the Eastside and the right-wing led pushback against Equity policies (in the guise of anti-masking\, anti-CRT\, and anti-DEI training). We want to discuss the issues affecting our local Eastside School Boards and the strategies we can use to counter them.  All are welcome.    Register to attend. We hope to see you on Zoom!    Allison\, Joan\, Linda\, Hanna\, Jennifer\, Louise\, Rhiannon\, Kat &amp\; Yvonne  IE Steering Committee
URL;VALUE=URI:https://indivisibleeastside.com/events/event/ie-group-meeting-oct-2021/
SUMMARY:IE Group Meeting Oct 2021
DTSTART:20211017T230000Z
END:VEVENT
END:VCALENDAR
