BEGIN:VCALENDAR
VERSION:2.0
PRODID:-//DIGITAL FACTORY//EVENTS MAKER V1.6.14//EN
CALSCALE:GREGORIAN
BEGIN:VEVENT
DTEND:20200920T003000Z
UID:69e88a620bffe
DTSTAMP:20260422T084418Z
DESCRIPTION:Join our monthly group meeting Online!  When: Sep 19\, 2020 4:00 - 5:30    Register To Attend    Agenda:     	💬 Speakers Novia\, Ava and Pasado's Safe Haven*   	💬 Cathering West - from the Approve R90 campaign   	Breakout Sessions on a topics including     	Remembering Ruth Bader Ginsburg and actions to protect the Supreme Court   	Combatting Digital Voter Suppression and Disinformation       	All Welcome - new and seasoned. We hope to see you!    All are welcome. Register to attend. We hope to see you on Zoom!    Allison\, Joan\, Linda\, Hanna\, Jennifer\, Louise\, Rhiannon &amp\; Kat  IE Steering Committee      *For those of you who remember the bill that was proposed last year by two local high schoolers to prevent pet stores from selling puppies from puppy mills\, we are happy to announce that\, because the bill didn't make it last session\, they are back with a new and improved version. They are supported by Pasado's Safe Haven and will present at this meeting. Please join us to hear from these impressive young women!
URL;VALUE=URI:https://indivisibleeastside.com/events/event/ie-group-meeting-sep-2020/
SUMMARY:IE Group Meeting Sep 2020
DTSTART:20200919T230000Z
END:VEVENT
END:VCALENDAR
