BEGIN:VCALENDAR
VERSION:2.0
PRODID:-//DIGITAL FACTORY//EVENTS MAKER V1.6.14//EN
CALSCALE:GREGORIAN
BEGIN:VEVENT
DTEND:20240413T233000Z
UID:69ea5e334633b
DTSTAMP:20260423T180019Z
DESCRIPTION:We look forward to gathering together once again with friends old and new. Please join us for our IN PERSON Group meeting in Kirkland.           We’re excited to once again partner with VoteForward to help GOTV by sending personal messages to voters in Georgia. In 2020 Vote Forward organized activists around the country to send 17.5 million letters to infrequent voters in 12 key states. Indivisible Eastside members contributed a whopping 11\,600 letters!     We have all the supplies you’ll need to give this a try\, and information on how you can create\, or revive your VoteForward account and start writing on your own.    Other topics will include updates on three initiatives that will be on the November ballot and our May meeting activity.           	Location: Kirkland Library: 308 Kirkland Ave\, Kirkland\, WA 98033   	GOTV Activity   	Refreshments   	Masking: wearing a mask is always a good idea as many of us are on the far side of 60.    Questions? Email hello@indivisibleeastside.com    See you soon!
URL;VALUE=URI:https://indivisibleeastside.com/events/event/ie-in-person-meeting-april-2024/
SUMMARY:IE IN PERSON Meeting April 2024
DTSTART:20240413T220000Z
END:VEVENT
END:VCALENDAR
