BEGIN:VCALENDAR
VERSION:2.0
PRODID:-//DIGITAL FACTORY//EVENTS MAKER V1.6.14//EN
CALSCALE:GREGORIAN
BEGIN:VEVENT
DTEND:20170720T030000Z
UID:69e9f2941fbd1
DTSTAMP:20260423T102108Z
DESCRIPTION:Please RSVP at our Eventbrite link    Indivisible Eastside invites you to a family-friendly summer picnic potluck on Wednesday July 19\, 5:00pm-8:00pm at Grass Lawn Park in Redmond!    We’re halfway through the year and several months into the Indivisible movement\, and we’re looking to take this time to connect with our community with a fun gathering. The resistance can be difficult and draining\, and it’s easy to forget that we need to celebrate the small (and big) victories\, our persistence and perseverance\, and each other (almost 2000 members strong across Facebook\, Twitter\, Instagram\, and email!). So on July 19\, let’s connect\, relax\, re-energize\, and build up that second wind to take us through the post-summer resistance activities.    Bring your family (including children)\, bring some friends\, meet the IE volunteers\, and get to know more of the Indivisible Eastside community -- all of us neighbors\, friends\, and active and engaged citizens and residents. IE will provide grill items (hot dogs and burgers)\, beverages\, and dessert. We welcome any potluck dishes you would like to bring!    We will also have campaign signs and brochures available for 45th Legislative District Senate candidate Manka Dhingra. Come and get a sign for your yard!    Please RSVP at our Eventbrite link so we can plan our food and activities accordingly. Thank you!    Grass Lawn Park - Picnic Dome (SW quadrant\, near the parking lot off Old Redmond Road)  7031 148th Avenue Northeast\, Redmond\, WA 98052
URL;VALUE=URI:https://indivisibleeastside.com/events/event/indivisible-eastside-summer-picnic/
SUMMARY:Indivisible Eastside Summer Picnic
DTSTART:20170720T000000Z
END:VEVENT
END:VCALENDAR
