BEGIN:VCALENDAR
VERSION:2.0
PRODID:-//DIGITAL FACTORY//EVENTS MAKER V1.6.14//EN
CALSCALE:GREGORIAN
BEGIN:VEVENT
DTEND:20260328T233000Z
UID:69e7961db5299
DTSTAMP:20260421T152205Z
DESCRIPTION:What began in 2025 as a single day of defiance has become a sustained national resistance to tyranny\, spreading from small towns to city centers and across every community determined to defend democracy. Our peaceful movement is bigger than ever.    Indivisible Eastside is hosting NO KINGS Kirkland Rally\, Food Drive and Peaceful March    Sign up HERE so we know how many to expect.     For an up-to-date list of other Rallies and Protests see Eastside and Seattle Protests 2026 
URL;VALUE=URI:https://indivisibleeastside.com/events/event/no-kings-eastside-kirkland-2/
SUMMARY:NO KINGS Kirkland - Take Action
DTSTART:20260328T200000Z
END:VEVENT
END:VCALENDAR
