BEGIN:VCALENDAR
VERSION:2.0
PRODID:-//DIGITAL FACTORY//EVENTS MAKER V1.6.14//EN
CALSCALE:GREGORIAN
BEGIN:VEVENT
DTEND:20170710T040000Z
UID:69e8f8eec4bd0
DTSTAMP:20260422T163558Z
DESCRIPTION:Westlake Park 401 Pine St\, Seattle\, Washington 98101    Facebook Event: https://www.facebook.com/events/1749903541976800/
URL;VALUE=URI:https://indivisibleeastside.com/events/event/philandocastile-march-injustice-%c2%b7-hosted-black-freedom-front-seattle/
SUMMARY:PhilandoCastile- March Against Injustice · Hosted by Black Freedom Front -Seattle
DTSTART:20170710T010000Z
END:VEVENT
END:VCALENDAR
