BEGIN:VCALENDAR
VERSION:2.0
PRODID:-//DIGITAL FACTORY//EVENTS MAKER V1.6.14//EN
CALSCALE:GREGORIAN
BEGIN:VEVENT
DTEND:20191025T183000Z
UID:69ec00b749926
DTSTAMP:20260424T234559Z
DESCRIPTION:Postcards and Coffee is moving to Crossroads Mall starting October 25th. Have some coffee and write some postcards to voters in support of progressive candidates in campaigns across the US! Supplies will be provided (cards\, stamps\, pens\, etc.). You may bring your own supplies\, too. Contributions to cover supply costs are welcome\, but NOT required. Hosted by IE member Ruth L. Please email postcards@indivisibleeastside.com to RSVP and get specific info on meeting location.    Location: Crossroads Mall Game Lane area.
URL;VALUE=URI:https://indivisibleeastside.com/events/event/postcards-and-coffee-bellevue/
SUMMARY:Postcards And Coffee Bellevue
DTSTART:20191025T163000Z
END:VEVENT
END:VCALENDAR
