BEGIN:VCALENDAR
VERSION:2.0
PRODID:-//DIGITAL FACTORY//EVENTS MAKER V1.6.14//EN
CALSCALE:GREGORIAN
BEGIN:VEVENT
DTEND:20201130T043000Z
UID:69ea6067eec5b
DTSTAMP:20260423T180943Z
DESCRIPTION:Welcome and thanks for joining us!  General information:     	Time:  Sunday at 7:30 we will check-in at a virtual meetups. You can write from home ANY time.   	Place:  We are virtual via Zoom. You must register to attend:     	Register for Nov 29\, Dec 6\, 13 - 7:30: bit.ly/P2V-IE       	Contact: email postcards@indivisibleeastside.com or letterwriting@indivisibleeastside.com with questions   	Who we are: The postcarding organizers include Elizabeth\, Ruth\, Christy\, Joan\, Louise\, Allison and others who help out from time to time. The letterwriting organizers include Yvonne\, Jennifer and Louise.   	Check out our Postcarding Resources page for lots more information and options for postcarding.   	Check out our Letterwriting Resources page for lots more information and options for letterwriting.
URL;VALUE=URI:https://indivisibleeastside.com/events/event/postcards-and-letters-to-georgia-11-29/
SUMMARY:Postcards and Letters To Georgia Nov 29
DTSTART:20201130T033000Z
END:VEVENT
END:VCALENDAR
