BEGIN:VCALENDAR
VERSION:2.0
PRODID:-//DIGITAL FACTORY//EVENTS MAKER V1.6.14//EN
CALSCALE:GREGORIAN
BEGIN:VEVENT
DTEND:20190618T190000Z
UID:69e83d45324d8
DTSTAMP:20260422T031517Z
DESCRIPTION:Last month we wrote 120 postcards to Democratic voters in Florida urging them to sign up for Vote By Mail. Join hostess Hae Sue and Louise June 18th from 10-noon in Kirkland to help write Get Out The Vote postcards to voters. Fill out the form below and the location will be emailed to you 2 days before the event. We won't know the campaign until then as the postcard writing campaigns move very quickly with the thousands of volunteers around the country writing every day. Reimbursement to cover the cost of postcards and stamps gratefully accepted ($5 per 10 cards) at the event.    Fill out the Postcards To Voters June 18 Google Form to attend.    Email group-action@indivisibleeastside.com with questions.
URL;VALUE=URI:https://indivisibleeastside.com/events/event/postcards-voters-jun-18/
SUMMARY:Postcards to Voters June 18
DTSTART:20190618T170000Z
END:VEVENT
END:VCALENDAR
