BEGIN:VCALENDAR
VERSION:2.0
PRODID:-//DIGITAL FACTORY//EVENTS MAKER V1.6.14//EN
CALSCALE:GREGORIAN
BEGIN:VEVENT
DTEND:20181018T040000Z
UID:69e6fd2d49191
DTSTAMP:20260421T042933Z
DESCRIPTION:Join hostess Karen S at her home in Kirkland - (address to be emailed 2 day before event when you Register) to help write Get-Out-The-Vote postcards to voters! We won't know the candidate until a few days beforehand as the postcard writing campaigns move very quickly with the thousands of volunteers around the country writing every day.  Reimbursement for the cost of postcards and stamps gratefully accepted ($1 per 2 cards). Light snack provided by Karen.    Note: Registration available Sep 29 - Oct 15    Fill out the Postcards To Voters Oct 17 Eventbrite link to attend.    Email group-action@indivisibleeastside.com with questions.
URL;VALUE=URI:https://indivisibleeastside.com/events/event/postcards-voters-oct-17/
SUMMARY:Postcards to Voters Oct 17
DTSTART:20181018T020000Z
END:VEVENT
END:VCALENDAR
