BEGIN:VCALENDAR
VERSION:2.0
PRODID:-//DIGITAL FACTORY//EVENTS MAKER V1.6.14//EN
CALSCALE:GREGORIAN
BEGIN:VEVENT
DTEND:20170601T030000Z
UID:69ea71be37184
DTSTAMP:20260423T192342Z
DESCRIPTION:The King County Library System and the City of Bellevue present a three-part series exploring civil discourse\, cross cultural communication and diversity and race at Bellevue City Hall\, 450 110th Avenue NE\, Bellevue\, WA 98004.    Explore The Seattle Times "Under Our Skin" video project around race and inclusiveness. Discussion will inspire you to think and talk about issues of race in a deeper way. "Under Our Skin" will challenge your assumptions and build common ground.    Registration required. For more info: https://kcls.bibliocommons.com/events/58e26e0d5b2c472200d39ca9.
URL;VALUE=URI:https://indivisibleeastside.com/events/event/skin-mean-talk-race/
SUMMARY:Under Our Skin: What Do We Mean When we Talk about Race?
DTSTART:20170601T013000Z
END:VEVENT
END:VCALENDAR
