BEGIN:VCALENDAR
VERSION:2.0
PRODID:-//DIGITAL FACTORY//EVENTS MAKER V1.6.14//EN
CALSCALE:GREGORIAN
BEGIN:VEVENT
DTEND:20180624T210000Z
UID:69e6a163bf14b
DTSTAMP:20260420T215755Z
DESCRIPTION:Voter Registration at Auburn Farmers Market     	Date:             Sunday\, June 24\, 2018   	Departure:    10:30 am   	Meet at:         Eastgate Park &amp\; Ride\, passenger pick-up area on east side   	Carpool to:   Auburn Farmers Market 1140 Auburn Way S. Auburn 98002   	Return:         Drive back to Eastgate at 1:00 or 2:00\, depending on people's needs    Auburn is "ground zero" for flipping the 8th Congressional District.    Email Michelle M to RSVP    Midterms Matter! Be part of the Blue-nami!
URL;VALUE=URI:https://indivisibleeastside.com/events/event/voter-registration-road-trip-4/
SUMMARY:Voter Registration Road Trip #4
DTSTART:20180624T173000Z
END:VEVENT
END:VCALENDAR
