BEGIN:VCALENDAR
VERSION:2.0
PRODID:-//DIGITAL FACTORY//EVENTS MAKER V1.6.14//EN
CALSCALE:GREGORIAN
BEGIN:VEVENT
DTEND:20190216T000000Z
UID:69e71bfdec237
DTSTAMP:20260421T064101Z
DESCRIPTION:The newly formed Washington State Indivisible Coalition (WaSIC) is organizing an Indivisible Lobby Day in Olympia on February 15 and wants representation from every LD across the state!    Indivisible Eastside represents LDs 1\, 5\, 41\, 45 and 48.    As of 1/19/19 registration for this event has been capped at 60 people due to meeting room space limitations. There will be a virtual lobby day opportunity for people to participate remotely. Stay tuned ...    email hello@indivisibleeastside.com if you have questions.
URL;VALUE=URI:https://indivisibleeastside.com/events/event/wa-indi-lobby-day/
SUMMARY:Indivisible Lobby Day
DTSTART:20190215T170000Z
END:VEVENT
END:VCALENDAR
